BEGIN:VCALENDAR
VERSION:2.0
PRODID:-//Trawler-Calendar-Tool 0.2
METHOD:PUBLISH
BEGIN:VTIMEZONE
TZID:Europe/Berlin
BEGIN:STANDARD
TZNAME:CET
DTSTART:20100101T010000
RRULE:FREQ=YEARLY;BYDAY=-1SU;BYMONTH=10
TZOFFSETFROM:+0200
TZOFFSETTO:+0100
END:STANDARD
BEGIN:DAYLIGHT
TZNAME:CEST
DTSTART:20100101T010000
RRULE:FREQ=YEARLY;BYDAY=-1SU;BYMONTH=3
TZOFFSETFROM:+0100
TZOFFSETTO:+0200
END:DAYLIGHT
END:VTIMEZONE
X-WR-TIMEZONE:Europe/Berlin
X-ORIGINAL-URL:https://www.ortsverein-gimmeldingen.de/termine/
BEGIN:VEVENT
DTSTART;TZID=Europe/Berlin:20260627T090000
DTEND;TZID=Europe/Berlin:20260627T100000
LOCATION:u.a. Steinfeld\, Bad Bergzabern und Klingenmünster
SUMMARY:SPD-Ortsverein Bad Dürkheim - SPD-Tagesfahrt
DESCRIPTION:
X-ALT-DESC;FMTTYPE=text/plain:
PRIORITY:5
UID:wscms202707-nws-45ee7df348a741a00f232c097c3cc4a6
URL:https://www.ortsverein-gimmeldingen.de/calendar202707.ics
END:VEVENT
END:VCALENDAR